BEGIN:VCALENDAR
VERSION:2.0
PRODID:-//Hoamat - ECPv6.15.8//NONSGML v1.0//EN
CALSCALE:GREGORIAN
METHOD:PUBLISH
X-WR-CALNAME:Hoamat
X-ORIGINAL-URL:https://hoamat.net
X-WR-CALDESC:Veranstaltungen für Hoamat
REFRESH-INTERVAL;VALUE=DURATION:PT1H
X-Robots-Tag:noindex
X-PUBLISHED-TTL:PT1H
BEGIN:VTIMEZONE
TZID:UTC
BEGIN:STANDARD
TZOFFSETFROM:+0000
TZOFFSETTO:+0000
TZNAME:UTC
DTSTART:20250101T000000
END:STANDARD
END:VTIMEZONE
BEGIN:VEVENT
DTSTART;TZID=UTC:20260530T090000
DTEND;TZID=UTC:20260530T120000
DTSTAMP:20260419T174654
CREATED:20260412T175518Z
LAST-MODIFIED:20260412T175558Z
UID:16635-1780131600-1780142400@hoamat.net
SUMMARY:Yoga & Brunch
DESCRIPTION:Die Yogaeinheit beginnt um 09:00 Uhr\, danach erwartet dich von 10:00 bis 12:00 Uhr ein liebevoll zubereiteter Brunch inklusive Getränke. \nDer Preis beträgt 49 € pro Person und beinhaltet: \n\ngeführte Yogaeinheit\nBrunch & Getränke\n\nBitte bring deine eigene Yogamatte sowie optional ein Sitzkissen und eine Decke für zusätzlichen Komfort mit.
URL:https://hoamat.net/event/yoga-brunch/
LOCATION:Hoamat\, Hinterberg 9\, Haibach/Donau\, Haibach ob der Donau\, 4083\, Austria
CATEGORIES:Standard
ATTACH;FMTTYPE=image/png:https://hoamat.net/wp-content/uploads/2026/04/Hoamat-Yoga-Instagram-Post-1920-x-1403-px.png
END:VEVENT
END:VCALENDAR