BEGIN:VCALENDAR
VERSION:2.0
PRODID:-//Hoamat - ECPv6.15.8//NONSGML v1.0//EN
CALSCALE:GREGORIAN
METHOD:PUBLISH
X-WR-CALNAME:Hoamat
X-ORIGINAL-URL:https://hoamat.net
X-WR-CALDESC:Veranstaltungen für Hoamat
REFRESH-INTERVAL;VALUE=DURATION:PT1H
X-Robots-Tag:noindex
X-PUBLISHED-TTL:PT1H
BEGIN:VTIMEZONE
TZID:UTC
BEGIN:STANDARD
TZOFFSETFROM:+0000
TZOFFSETTO:+0000
TZNAME:UTC
DTSTART:20250101T000000
END:STANDARD
END:VTIMEZONE
BEGIN:VEVENT
DTSTART;TZID=UTC:20260813T170000
DTEND;TZID=UTC:20260813T233000
DTSTAMP:20260419T205304
CREATED:20251129T154641Z
LAST-MODIFIED:20260219T202547Z
UID:14746-1786640400-1786663800@hoamat.net
SUMMARY:FALCO IN CONCERT
DESCRIPTION:Erlebe Falcos größte Hits in einem völlig neuen Format: FALCO IN CONCERT – LIVE ON SCREEN bringt am 13. August 2026 beim HOAMAT OPEN AIR das Gefühl eines echten Falco-Konzerts zurück. Falco erscheint in Originalaufnahmen auf einer großen LED-Wall\, während seine Original-Band live dazu spielt – gemeinsam mit ausgewählten österreichischen Top-Solist*innen. So entsteht eine spektakuläre\, multimediale Show voller Gänsehautmomente\, virtueller Duette und ikonischer Songs. Ein emotionales Konzerterlebnis für alle\, die Falcos Vermächtnis lieben und neu erleben wollen. Tickets sind ab sofort im Webshop erhältlich. \nTickets sind auch direkt in der Hoamat erhältlich – komm einfach zu den Öffnungszeiten (Do–So) vorbei und sichere dir vor Ort deine Karte.
URL:https://hoamat.net/event/falco-in-concert/
LOCATION:Hoamat\, Hinterberg 9\, Haibach/Donau\, Haibach ob der Donau\, 4083\, Austria
CATEGORIES:Highlight
ATTACH;FMTTYPE=image/webp:https://hoamat.net/wp-content/uploads/2025/11/Hoamat_Falco.webp
END:VEVENT
BEGIN:VEVENT
DTSTART;TZID=UTC:20260813T170000
DTEND;TZID=UTC:20260816T233000
DTSTAMP:20260419T205304
CREATED:20250209T215728Z
LAST-MODIFIED:20260208T124331Z
UID:8075-1786640400-1786923000@hoamat.net
SUMMARY:OpenAir-Kombiticket (nur online)
DESCRIPTION:Prickelnde Live-Erlebnisse der Marke Hoamat gibts jetzt auch auf Bestellung: Auf dieser Seite kannst du Tickets zu unseren kostenpflichtigen Veranstaltungen bestellen. Einfach und unkompliziert.
URL:https://hoamat.net/event/hoamat-kombiticket/
LOCATION:Hoamat\, Hinterberg 9\, Haibach/Donau\, Haibach ob der Donau\, 4083\, Austria
CATEGORIES:Highlight
ATTACH;FMTTYPE=image/webp:https://hoamat.net/wp-content/uploads/2025/02/Hoamat-Kombi-Ticket-1.webp
END:VEVENT
END:VCALENDAR