BEGIN:VCALENDAR
VERSION:2.0
PRODID:-//Hoamat - ECPv6.15.8//NONSGML v1.0//EN
CALSCALE:GREGORIAN
METHOD:PUBLISH
X-WR-CALNAME:Hoamat
X-ORIGINAL-URL:https://hoamat.net
X-WR-CALDESC:Veranstaltungen für Hoamat
REFRESH-INTERVAL;VALUE=DURATION:PT1H
X-Robots-Tag:noindex
X-PUBLISHED-TTL:PT1H
BEGIN:VTIMEZONE
TZID:UTC
BEGIN:STANDARD
TZOFFSETFROM:+0000
TZOFFSETTO:+0000
TZNAME:UTC
DTSTART:20250101T000000
END:STANDARD
END:VTIMEZONE
BEGIN:VEVENT
DTSTART;TZID=UTC:20261001T000000
DTEND;TZID=UTC:20261101T000000
DTSTAMP:20260419T235722
CREATED:20260115T200545Z
LAST-MODIFIED:20260116T072225Z
UID:10808-1790812800-1793491200@hoamat.net
SUMMARY:Wildpartie
DESCRIPTION:Genieße bei uns das Beste aus Wald und Wiese. \n\nGleich Tisch reservieren!
URL:https://hoamat.net/event/wildpartie/
LOCATION:Hoamat\, Hinterberg 9\, Haibach/Donau\, Haibach ob der Donau\, 4083\, Austria
CATEGORIES:Monat
ATTACH;FMTTYPE=image/jpeg:https://hoamat.net/wp-content/uploads/2025/02/Teaser-wild-homepage-0ab1a102.jpg
END:VEVENT
END:VCALENDAR