BEGIN:VCALENDAR
VERSION:2.0
PRODID:-//Hoamat - ECPv6.15.8//NONSGML v1.0//EN
CALSCALE:GREGORIAN
METHOD:PUBLISH
X-ORIGINAL-URL:https://hoamat.net
X-WR-CALDESC:Veranstaltungen für Hoamat
REFRESH-INTERVAL;VALUE=DURATION:PT1H
X-Robots-Tag:noindex
X-PUBLISHED-TTL:PT1H
BEGIN:VTIMEZONE
TZID:UTC
BEGIN:STANDARD
TZOFFSETFROM:+0000
TZOFFSETTO:+0000
TZNAME:UTC
DTSTART:20250101T000000
END:STANDARD
END:VTIMEZONE
BEGIN:VEVENT
DTSTART;TZID=UTC:20261113T180000
DTEND;TZID=UTC:20261114T233000
DTSTAMP:20260420T000034
CREATED:20250227T200850Z
LAST-MODIFIED:20251120T192255Z
UID:10812-1794592800-1794699000@hoamat.net
SUMMARY:Franz Posch & seine Innbrüggler
DESCRIPTION:Die HOAMAT feiert Geburtstag – Franz Posch & seine Innbrüggler feiern mit uns! Gleich an zwei Abenden kannst du dich vom Tiroler Charme begeistern lassen. Neben herrlicher Volksmusik mit viel Witz verwöhnen wir dich mit einem wunderbaren Menü aus der Hoamat Küche. Lass dir dieses Ereignis nicht entgehen und reserviere gleich deinen Tisch! (Beim Kauf der Eintrittskarte ist der Tisch gleich automatisch mitreserviert!)
URL:https://hoamat.net/event/franz-posch-seine-innbrueggler/
LOCATION:Hoamat\, Hinterberg 9\, Haibach/Donau\, Haibach ob der Donau\, 4083\, Austria
CATEGORIES:Standard
ATTACH;FMTTYPE=image/webp:https://hoamat.net/wp-content/uploads/2025/02/Franz-Posch-seine-Innbrueggler-bdcaa142.webp
END:VEVENT
END:VCALENDAR