BEGIN:VCALENDAR
VERSION:2.0
PRODID:-//Hoamat - ECPv6.15.8//NONSGML v1.0//EN
CALSCALE:GREGORIAN
METHOD:PUBLISH
X-ORIGINAL-URL:https://hoamat.net
X-WR-CALDESC:Veranstaltungen für Hoamat
REFRESH-INTERVAL;VALUE=DURATION:PT1H
X-Robots-Tag:noindex
X-PUBLISHED-TTL:PT1H
BEGIN:VTIMEZONE
TZID:UTC
BEGIN:STANDARD
TZOFFSETFROM:+0000
TZOFFSETTO:+0000
TZNAME:UTC
DTSTART:20250101T000000
END:STANDARD
END:VTIMEZONE
BEGIN:VEVENT
DTSTART;TZID=UTC:20261231T180000
DTEND;TZID=UTC:20261231T233000
DTSTAMP:20260420T012917
CREATED:20250227T201312Z
LAST-MODIFIED:20260226T213051Z
UID:10815-1798740000-1798759800@hoamat.net
SUMMARY:Silvester in der Hoamat
DESCRIPTION:Genieße mit uns die letzten Stunden des Jahres und lass dich bei Live-Musik mit einem 4-gängigen Menü verwöhnen. Nach dem Jahreswechsel kannst du dich mit einer Mitternachtsjause stärken.
URL:https://hoamat.net/event/silvester-in-der-hoamat/
LOCATION:Hoamat\, Hinterberg 9\, Haibach/Donau\, Haibach ob der Donau\, 4083\, Austria
CATEGORIES:Standard
ATTACH;FMTTYPE=image/webp:https://hoamat.net/wp-content/uploads/2025/02/header_web_silvester-2024-1cfb576d.webp
END:VEVENT
END:VCALENDAR